BEGIN:VCALENDAR
VERSION:2.0
PRODID:-//Centennial Institute - ECPv6.15.17.1//NONSGML v1.0//EN
CALSCALE:GREGORIAN
METHOD:PUBLISH
X-ORIGINAL-URL:https://centennial.ccu.edu
X-WR-CALDESC:Events for Centennial Institute
REFRESH-INTERVAL;VALUE=DURATION:PT1H
X-Robots-Tag:noindex
X-PUBLISHED-TTL:PT1H
BEGIN:VTIMEZONE
TZID:America/Denver
BEGIN:DAYLIGHT
TZOFFSETFROM:-0700
TZOFFSETTO:-0600
TZNAME:MDT
DTSTART:20250309T090000
END:DAYLIGHT
BEGIN:STANDARD
TZOFFSETFROM:-0600
TZOFFSETTO:-0700
TZNAME:MST
DTSTART:20251102T080000
END:STANDARD
BEGIN:DAYLIGHT
TZOFFSETFROM:-0700
TZOFFSETTO:-0600
TZNAME:MDT
DTSTART:20260308T090000
END:DAYLIGHT
BEGIN:STANDARD
TZOFFSETFROM:-0600
TZOFFSETTO:-0700
TZNAME:MST
DTSTART:20261101T080000
END:STANDARD
BEGIN:DAYLIGHT
TZOFFSETFROM:-0700
TZOFFSETTO:-0600
TZNAME:MDT
DTSTART:20270314T090000
END:DAYLIGHT
BEGIN:STANDARD
TZOFFSETFROM:-0600
TZOFFSETTO:-0700
TZNAME:MST
DTSTART:20271107T080000
END:STANDARD
END:VTIMEZONE
BEGIN:VEVENT
DTSTART;TZID=America/Denver:20260526T190000
DTEND;TZID=America/Denver:20260526T203000
DTSTAMP:20260420T133259
CREATED:20260417T170154Z
LAST-MODIFIED:20260417T170154Z
UID:10000671-1779822000-1779827400@centennial.ccu.edu
SUMMARY:Colorado Republican Gubernatorial Primary Debate
DESCRIPTION:Join the Centennial Institute for a gubernatorial primary debate featuring the Republican candidates: Scott Bottoms\, Barb Kirkmeyer\, and Victor Marx. Candidates will receive equal time to answer questions on the major issues facing Colorado\, including the economy\, crime/public safety\, state budget/TABOR\, energy\, infrastructure\, and more. \nThe debate will be moderated by Shaun Boyd (CBS4)\, Vince Bzdek (Denver Gazette)\, and Michael Brown (KOA). \nThe Centennial Institute at Colorado Christian University is a nonpartisan 501(c)(3) organization that does not endorse or oppose any candidate or political party for public office. The University does not endorse any statement made at this event\, by any person or organization\, that advocates the election or defeat of any political candidate or party. An equal invitation has been sent to the Colorado Democratic Party to host an identical debate to be held for the same duration and in the same venue under comparable conditions. \nColorado Republican Gubernatorial Primary Debate\nTuesday\, May 26\, 2026\n7:00 pm – 8:30 pm MT\nMcDonald Performance Hall; Armstrong Center\nColorado Christian University\n8787 W. Alameda Ave.\nLakewood\, CO 80226 \nRegister Now \nMEDIA CREDENTIALING: While members of the media are welcome to attend our events\, they are not allowed inside university buildings or facilities for the purpose of reporting unless they have received prior approval in writing from the Communications and Creative Services Department. For more information on how to apply for a media credential\, please email centennial@ccu.edu.
URL:https://centennial.ccu.edu/event/co-republican-gubernatorial-primary-debate/
LOCATION:McDonald Performance Hall\, 8787 W Alameda Ave\, Lakewood\, CO\, 80226\, United States
CATEGORIES:Candidate Visit,Issue Forums
ATTACH;FMTTYPE=image/jpeg:https://centennial.ccu.edu/wp-content/uploads/2026/03/CO-Flag.jpg
ORGANIZER;CN="Centennial Institute":MAILTO:centennial@ccu.edu
END:VEVENT
END:VCALENDAR