BEGIN:VCALENDAR
VERSION:2.0
PRODID:-//Centennial Institute - ECPv6.15.17.1//NONSGML v1.0//EN
CALSCALE:GREGORIAN
METHOD:PUBLISH
X-ORIGINAL-URL:https://centennial.ccu.edu
X-WR-CALDESC:Events for Centennial Institute
REFRESH-INTERVAL;VALUE=DURATION:PT1H
X-Robots-Tag:noindex
X-PUBLISHED-TTL:PT1H
BEGIN:VTIMEZONE
TZID:America/Denver
BEGIN:DAYLIGHT
TZOFFSETFROM:-0700
TZOFFSETTO:-0600
TZNAME:MDT
DTSTART:20190310T090000
END:DAYLIGHT
BEGIN:STANDARD
TZOFFSETFROM:-0600
TZOFFSETTO:-0700
TZNAME:MST
DTSTART:20191103T080000
END:STANDARD
BEGIN:DAYLIGHT
TZOFFSETFROM:-0700
TZOFFSETTO:-0600
TZNAME:MDT
DTSTART:20200308T090000
END:DAYLIGHT
BEGIN:STANDARD
TZOFFSETFROM:-0600
TZOFFSETTO:-0700
TZNAME:MST
DTSTART:20201101T080000
END:STANDARD
BEGIN:DAYLIGHT
TZOFFSETFROM:-0700
TZOFFSETTO:-0600
TZNAME:MDT
DTSTART:20210314T090000
END:DAYLIGHT
BEGIN:STANDARD
TZOFFSETFROM:-0600
TZOFFSETTO:-0700
TZNAME:MST
DTSTART:20211107T080000
END:STANDARD
END:VTIMEZONE
BEGIN:VEVENT
DTSTART;TZID=America/Denver:20200630T140000
DTEND;TZID=America/Denver:20200630T150000
DTSTAMP:20260420T015319
CREATED:20200629T223838Z
LAST-MODIFIED:20200629T223838Z
UID:10000567-1593525600-1593529200@centennial.ccu.edu
SUMMARY:Reviewing Colorado's Police Reform Legislation
DESCRIPTION:Following the death of George Floyd\, the Colorado legislature passed a bi-partisan bill reforming Colorado policing. How does this bill improve or harm Colorado policing? Is Colorado facing a systemic racist policing problem? What are the positive and negative effects Black Lives Matter is having on policing in America? Why is Denver seeing a spike in violent crime? Are police doing enough to stop destructive protests in Denver and Aurora? \nExplore these questions and more as the Centennial Institute hosts George Brauchler\, D.A. 18th Judicial District\, and Patrick Neville\, House Minority Leader\, for a discussion. \nTuesday\, June 30\, 2020 \n2:00 pm – 3:00 pm MT
URL:https://centennial.ccu.edu/event/reviewing-colorados-police-reform-legislation-2/
LOCATION:Online
CATEGORIES:Issue Forums
ORGANIZER;CN="Centennial Institute":MAILTO:centennial@ccu.edu
END:VEVENT
BEGIN:VEVENT
DTSTART;TZID=America/Denver:20200625T140000
DTEND;TZID=America/Denver:20200625T150000
DTSTAMP:20260420T015319
CREATED:20200624T230903Z
LAST-MODIFIED:20200624T230903Z
UID:10000565-1593093600-1593097200@centennial.ccu.edu
SUMMARY:The Sin of Racism and America's Promise of Equality\, Part 2 - Solutions
DESCRIPTION:  \nFollowing an extremely popular and well-received discussion on the sin of racism and America’s promise of equality\, the same panel is back to discuss solutions further. In the weeks since the first discussion\, congress\, states\, and municipalities have introduced legislation to reform policing. What’s right and what’s wrong with this approach? Leftist organizations are seeking to go further in defunding the police\, tearing down statues\, requiring reparations\, and even creating autonomous zones. How does America address the challenges of bad policing and racism without dividing the nation? What are other solutions to improving access to the American dream for black Americans? \nJoin the Centennial Institute\, Antonia Okafor Cover\, CJ Pearson\, Dr. Biff Gore\, and Casper Stockham to explore these issues and more. \nThursday\, June 25\, 2020 \n2:00 pm – 3:00 pm MT
URL:https://centennial.ccu.edu/event/the-sin-of-racism-and-americas-promise-of-equality-part-2-solutions-2/
LOCATION:Online
CATEGORIES:Issue Forums
ATTACH;FMTTYPE=image/jpeg:https://centennial.ccu.edu/wp-content/uploads/2017/10/American-Flag-4-e1593040860553.jpg
ORGANIZER;CN="Centennial Institute":MAILTO:centennial@ccu.edu
END:VEVENT
BEGIN:VEVENT
DTSTART;TZID=America/Denver:20200625T140000
DTEND;TZID=America/Denver:20200625T150000
DTSTAMP:20260420T015319
CREATED:20200624T230903Z
LAST-MODIFIED:20200624T233820Z
UID:10000564-1593093600-1593097200@centennial.ccu.edu
SUMMARY:The Sin of Racism and America's Promise of Equality\, Part 2 - Solutions
DESCRIPTION:  \nFollowing an extremely popular and well-received discussion on the sin of racism and America’s promise of equality\, the same panel is back to discuss solutions further. In the weeks since the first discussion\, congress\, states\, and municipalities have introduced legislation to reform policing. What’s right and what’s wrong with this approach? Leftist organizations are seeking to go further in defunding the police\, tearing down statues\, requiring reparations\, and even creating autonomous zones. How does America address the challenges of bad policing and racism without dividing the nation? What are other solutions to improving access to the American dream for black Americans? \nJoin the Centennial Institute\, Antonia Okafor Cover\, CJ Pearson\, Dr. Biff Gore\, and Casper Stockham to explore these issues and more. \nThursday\, June 25\, 2020 \n2:00 pm – 3:00 pm MT
URL:https://centennial.ccu.edu/event/the-sin-of-racism-and-americas-promise-of-equality-part-2-solutions/
LOCATION:Online
ATTACH;FMTTYPE=image/jpeg:https://centennial.ccu.edu/wp-content/uploads/2017/10/American-Flag-4-e1593040860553.jpg
ORGANIZER;CN="Centennial Institute":MAILTO:centennial@ccu.edu
END:VEVENT
BEGIN:VEVENT
DTSTART;TZID=America/Denver:20200611T130000
DTEND;TZID=America/Denver:20200611T140000
DTSTAMP:20260420T015320
CREATED:20200608T212915Z
LAST-MODIFIED:20200608T212915Z
UID:10000563-1591880400-1591884000@centennial.ccu.edu
SUMMARY:The Sin of Racism and America’s Promise of Equality
DESCRIPTION:Colorado Christian University mourns the tragic death and unjust killing of George Floyd. Sadly\, this is not an isolated incident and points to a deeper racism that festers in our land. At the same time\, we also condemn those who seek to exploit the tragedy of this situation by looting\, torching vehicles\, burning buildings\, defacing national monuments and destroying hundreds of businesses. The number of people killed as a result of violent protest represents a disturbing breakdown in the rule of law and cannot be excused as a just response to this incident.\nHow do we seek justice for the black community? How do we improve policing in America? How do we protect our cities and local communities from violent riots? How does America live up to its claims of one Nation under God\, indivisible\, with liberty and justice for all? \nJoin the Centennial Institute and community leaders Antonia Okafor Cover\, CJ Pearson\, Dr. Biff Gore\, and Casper Stockham for a Zoom discussion on these issues. \nThe Sin of Racism and America’s Promise of Equality\nThursday\, June 11\, 2020\n1:00 pm MT \nWatch here: https://www.youtube.com/CentennialInstitute/
URL:https://centennial.ccu.edu/event/the-sin-of-racism-and-americas-promise-of-equality-2/
LOCATION:Online
CATEGORIES:Issue Forums
ATTACH;FMTTYPE=image/png:https://centennial.ccu.edu/wp-content/uploads/2020/06/Icantbreathe.png
ORGANIZER;CN="Centennial Institute":MAILTO:centennial@ccu.edu
END:VEVENT
BEGIN:VEVENT
DTSTART;TZID=America/Denver:20200611T130000
DTEND;TZID=America/Denver:20200611T140000
DTSTAMP:20260420T015320
CREATED:20200608T212915Z
LAST-MODIFIED:20200609T162226Z
UID:10000562-1591880400-1591884000@centennial.ccu.edu
SUMMARY:The Sin of Racism and America’s Promise of Equality
DESCRIPTION:Colorado Christian University mourns the tragic death and unjust killing of George Floyd. Sadly\, this is not an isolated incident and points to a deeper racism that festers in our land. At the same time\, we also condemn those who seek to exploit the tragedy of this situation by looting\, torching vehicles\, burning buildings\, defacing national monuments and destroying hundreds of businesses. The number of people killed as a result of violent protest represents a disturbing breakdown in the rule of law and cannot be excused as a just response to this incident.\nHow do we seek justice for the black community? How do we improve policing in America? How do we protect our cities and local communities from violent riots? How does America live up to its claims of one Nation under God\, indivisible\, with liberty and justice for all? \nJoin the Centennial Institute and community leaders Antonia Okafor Cover\, CJ Pearson\, Dr. Biff Gore\, and Casper Stockham for a Zoom discussion on these issues. \nThe Sin of Racism and America’s Promise of Equality\nThursday\, June 11\, 2020\n1:00 pm MT \nWatch here: https://www.youtube.com/CentennialInstitute/
URL:https://centennial.ccu.edu/event/the-sin-of-racism-and-americas-promise-of-equality/
LOCATION:Online
ATTACH;FMTTYPE=image/png:https://centennial.ccu.edu/wp-content/uploads/2020/06/Icantbreathe.png
ORGANIZER;CN="Centennial Institute":MAILTO:centennial@ccu.edu
END:VEVENT
BEGIN:VEVENT
DTSTART;TZID=America/Denver:20200507T191500
DTEND;TZID=America/Denver:20200507T200000
DTSTAMP:20260420T015320
CREATED:20200506T230334Z
LAST-MODIFIED:20200506T231127Z
UID:10000560-1588878900-1588881600@centennial.ccu.edu
SUMMARY:National Day of Prayer Phone Call
DESCRIPTION:Join CCU President Dr. Donald Sweeting for a National Day of Prayer Conference Call at 7:15 pm MT on Thursday\, May 7\, 2020. \nDial: 877-229-8493    PIN: 115094 \nThe theme of this year’s National Day of Prayer is “Pray God’s Glory Across the Earth.” It’s taken from Habakkuk 2:14 which reads\, “For the earth will be filled with the knowledge of the glory of the Lord\, as the waters cover the sea.” \nThe National Day of Prayer is an annual observance held on the first Thursday of May. It was created in 1952 by a joint resolution of Congress and signed into law by President Harry S. Truman. \n  \n\n\nHabakkuk 2:14\n\nFor the earth will be filled with the knowledge of the glory of the Lord\, as the waters cover the sea.
URL:https://centennial.ccu.edu/event/national-day-of-prayer-phone-call/
LOCATION:Online
ATTACH;FMTTYPE=image/jpeg:https://centennial.ccu.edu/wp-content/uploads/2020/05/praying-america-e1593039951945.jpg
ORGANIZER;CN="Centennial Institute":MAILTO:centennial@ccu.edu
END:VEVENT
BEGIN:VEVENT
DTSTART;TZID=America/Denver:20200507T191500
DTEND;TZID=America/Denver:20200507T200000
DTSTAMP:20260420T015320
CREATED:20200506T230334Z
LAST-MODIFIED:20200506T230334Z
UID:10000561-1588878900-1588881600@centennial.ccu.edu
SUMMARY:National Day of Prayer Phone Call
DESCRIPTION:Join CCU President Dr. Donald Sweeting for a National Day of Prayer Conference Call at 7:15 pm MT on Thursday\, May 7\, 2020. \nDial: 877-229-8493    PIN: 115094 \nThe theme of this year’s National Day of Prayer is “Pray God’s Glory Across the Earth.” It’s taken from Habakkuk 2:14 which reads\, “For the earth will be filled with the knowledge of the glory of the Lord\, as the waters cover the sea.” \nThe National Day of Prayer is an annual observance held on the first Thursday of May. It was created in 1952 by a joint resolution of Congress and signed into law by President Harry S. Truman. \n  \n\n\nHabakkuk 2:14\n\nFor the earth will be filled with the knowledge of the glory of the Lord\, as the waters cover the sea.
URL:https://centennial.ccu.edu/event/national-day-of-prayer-phone-call-2/
LOCATION:Online
ATTACH;FMTTYPE=image/jpeg:https://centennial.ccu.edu/wp-content/uploads/2020/05/praying-america-e1593039951945.jpg
ORGANIZER;CN="Centennial Institute":MAILTO:centennial@ccu.edu
END:VEVENT
BEGIN:VEVENT
DTSTART;TZID=America/Denver:20200430T100000
DTEND;TZID=America/Denver:20200430T110000
DTSTAMP:20260420T015320
CREATED:20200423T215727Z
LAST-MODIFIED:20200423T215727Z
UID:10000559-1588240800-1588244400@centennial.ccu.edu
SUMMARY:U.S. Commission on International Religious Freedom 2020 Report
DESCRIPTION:Join the Centennial Institute and Johnnie Moore\, a commissioner with the U.S. Commission on International Religious Freedom (USCIRF)\, to discuss the USCIRF 2020 annual report. The report documents religious freedom violations and progress throughout the world during the past year. In which countries is religious freedom getting better or worse? How are religious groups treated in the Middle East\, China\, North Korea\, Europe\, etc.? What can America do to encourage international religious freedom?\n \nThursday\, April 30\, 2020\n10:00 am MT\nWatch here: https://www.youtube.com/user/CentennialInstitute/\n \nAbout USCIRF:\nUSCIRF is an independent\, bipartisan U.S. federal government commission\, the first of its kind in the world\, dedicated to defending the universal right to freedom of religion or belief abroad. USCIRF reviews the facts and circumstances of religious freedom violations and makes policy recommendations to the President\, the Secretary of State\, and Congress. USCIRF Commissioners are appointed by the President and the Congressional leadership of both political parties.\n \nAbout Johnnie Moore:\nJohnnie Moore is founder and CEO of The KAIROS Company and President of The Congress of Christian Leaders. He is a reverend and best known for his work at the intersection of faith and foreign policy and is a Presidential appointee as a Commissioner for the United States Commission on International Religious Freedom. He began his career at Liberty University\, where he served as the school’s Senior Vice President for Communications and Chaplain. He then served as Chief of Staff and Vice President of Faith Content for the United Artists Media Group in Hollywood.\n\nMoore has advocated relentlessly for religious freedom in the Middle East\, meeting on multiple occasions with regional leaders including most heads of state across the Arab world and\, in 2017\, he participated in the drafting of the landmark Bahrain Declaration on Religious Freedom and Peaceful Coexistence in the Middle East. He is a recipient of the prestigious Medal of Valor from the Simon Wiesenthal Center.\n\nHe has spoken at many institutions including Georgetown University\, Union Theological Seminary\, Liberty University\, USC’s Annenberg School and he is a fellow at Concordia University in Irvine\, California. He is a member of the Board of Trustees of the Anti-Defamation League in Los Angeles and the National Association of Evangelicals.\n\nHe has been named one of America’s twenty five most influential evangelicals. Rev. Moore has authored several books and appeared on numerous television\, radio\, print\, and online outlets to provide analysis and commentary on various topics. His work has appeared in The Washington Post\, Fox News\, and CNN.
URL:https://centennial.ccu.edu/event/u-s-commission-on-international-religious-freedom-2020-report-2/
LOCATION:Online
ATTACH;FMTTYPE=image/jpeg:https://centennial.ccu.edu/wp-content/uploads/2020/04/ReligFreedom-2.jpg
ORGANIZER;CN="Centennial Institute":MAILTO:centennial@ccu.edu
END:VEVENT
BEGIN:VEVENT
DTSTART;TZID=America/Denver:20200430T100000
DTEND;TZID=America/Denver:20200430T110000
DTSTAMP:20260420T015320
CREATED:20200423T215727Z
LAST-MODIFIED:20200423T215727Z
UID:10000558-1588240800-1588244400@centennial.ccu.edu
SUMMARY:U.S. Commission on International Religious Freedom 2020 Report
DESCRIPTION:Join the Centennial Institute and Johnnie Moore\, a commissioner with the U.S. Commission on International Religious Freedom (USCIRF)\, to discuss the USCIRF 2020 annual report. The report documents religious freedom violations and progress throughout the world during the past year. In which countries is religious freedom getting better or worse? How are religious groups treated in the Middle East\, China\, North Korea\, Europe\, etc.? What can America do to encourage international religious freedom?\n \nThursday\, April 30\, 2020\n10:00 am MT\nWatch here: https://www.youtube.com/user/CentennialInstitute/\n \nAbout USCIRF:\nUSCIRF is an independent\, bipartisan U.S. federal government commission\, the first of its kind in the world\, dedicated to defending the universal right to freedom of religion or belief abroad. USCIRF reviews the facts and circumstances of religious freedom violations and makes policy recommendations to the President\, the Secretary of State\, and Congress. USCIRF Commissioners are appointed by the President and the Congressional leadership of both political parties.\n \nAbout Johnnie Moore:\nJohnnie Moore is founder and CEO of The KAIROS Company and President of The Congress of Christian Leaders. He is a reverend and best known for his work at the intersection of faith and foreign policy and is a Presidential appointee as a Commissioner for the United States Commission on International Religious Freedom. He began his career at Liberty University\, where he served as the school’s Senior Vice President for Communications and Chaplain. He then served as Chief of Staff and Vice President of Faith Content for the United Artists Media Group in Hollywood.\n\nMoore has advocated relentlessly for religious freedom in the Middle East\, meeting on multiple occasions with regional leaders including most heads of state across the Arab world and\, in 2017\, he participated in the drafting of the landmark Bahrain Declaration on Religious Freedom and Peaceful Coexistence in the Middle East. He is a recipient of the prestigious Medal of Valor from the Simon Wiesenthal Center.\n\nHe has spoken at many institutions including Georgetown University\, Union Theological Seminary\, Liberty University\, USC’s Annenberg School and he is a fellow at Concordia University in Irvine\, California. He is a member of the Board of Trustees of the Anti-Defamation League in Los Angeles and the National Association of Evangelicals.\n\nHe has been named one of America’s twenty five most influential evangelicals. Rev. Moore has authored several books and appeared on numerous television\, radio\, print\, and online outlets to provide analysis and commentary on various topics. His work has appeared in The Washington Post\, Fox News\, and CNN.
URL:https://centennial.ccu.edu/event/u-s-commission-on-international-religious-freedom-2020-report/
LOCATION:Online
ATTACH;FMTTYPE=image/jpeg:https://centennial.ccu.edu/wp-content/uploads/2020/04/ReligFreedom-2.jpg
ORGANIZER;CN="Centennial Institute":MAILTO:centennial@ccu.edu
END:VEVENT
END:VCALENDAR